Workbook

Sheet Risk Register
A1: The Akidamy School of Early Learning | Consolidated Risk Register - Perth & Fremantle - ranked by residual risk (with mitigations)
A2: Source: Safeguard risk assessment PDFs (OneDrive exports) - Perth 57 forms / 161 hazards; Fremantle 40 forms / 132 hazards. Score = Consequence x Likelihood (1-25); rating from the 5x5 matrix. Light green = variables. Re-sort on column T (then O) after edits. Filter column D to view one school.
A3: Inherent = WITHOUT mitigation | Residual = WITH mitigation / controls applied
A4: Rank (residual) | B4: Risk ID | C4: Assessment ID | D4: School | E4: Risk Assessment (source form) | F4: Category / Template | G4: Studio / Area | H4: Form created | I4: Hazard ref | J4: Activity / Task | K4: Hazard type | L4: Hazard description (what could go wrong) | M4: Inherent Consequence (1-5) | N4: Inherent Likelihood (1-5) | O4: Inherent Score | P4: Inherent Rating | Q4: Mitigation / Controls applied | R4: Residual Consequence (1-5) | S4: Residual Likelihood (1-5) | T4: Residual Score | U4: Residual Rating | V4: Score reduction | W4: % reduction | X4: Risk owner (as recorded) | Y4: Source form: inherent value | Z4: Source form: residual value | AA4: Data quality flag | AB4: Sort key (helper) | AC4: Perth key (helper) | AD4: Fremantle key (helper)
A5: =COUNTIF($T$5:$T$297,">"&T5)+1 -> 1 | B5: P36-C | C5: P36 | D5: =INDEX('Summary by Assessment'!$C$5:$C$101,MATCH(C5,'Summary by Assessment'!$B$5:$B$101,0)) -> Perth | E5: School Event: Nursery Studio Easter Stay & Play (National Reg. 101, 115, 167) | F5: School Event (General, Special Activities or Incursion, Other) | G5: P1 - N2 Playspace Summers House | H5: 24/03/2025 | I5: C | J5: Musical Instruments | K5: Critical Incident | L5: Child eating the instruments and swallow some of the smaller bits on the musical instruments. | M5: 5 | N5: 3 | O5: =M5*N5 -> 15 | P5: =INDEX('Scales & Matrix'!$B$13:$F$17,6-N5,M5) -> High | Q5: Closely supervision and check instruments to see if any bits are close or a danger to the children | R5: 4 | S5: 3 | T5: =R5*S5 -> 12 | U5: =INDEX('Scales & Matrix'!$B$13:$F$17,6-S5,R5) -> High | V5: =O5-T5 -> 3 | W5: =IF(O5=0,0,V5/O5) -> 0.2 | X5: Mira Kesley | Y5: High - 15 | Z5: High - 12 | AA5: =TRIM(IF(T5>O5,"Residual higher than inherent - check. ","")&IF(O5<>IFERROR(VALUE(TRIM(MID(Y5,FIND(" - ",Y5)+3,3))),0),"Inherent score differs from source form. ","")&IF(T5<>IFERROR(VALUE(TRIM(MID(Z5,FIND(" - ",Z5)+3,3))),0),"Residual score differs from source form. ","")&IF(LOWER(IFERROR(TRIM(LEFT(Z5,FIND(" - ",Z5)-1)),""))<>LOWER(U5),"Source residual rating shown as "&IFERROR(TRIM(LEFT(Z5,FIND(" - ",Z5)-1)),"")&". ","")&IF(LOWER(IFERROR(TRIM(LEFT(Y5,FIND(" - ",Y5)-1)),""))<>LOWER(P5),"Source inherent rating shown as "&IFERROR(TRIM(LEFT(Y5,FIND(" - ",Y5)-1)),"")&". ","")&IF(LEN(TRIM(L5))<6,"Placeholder - no hazard entered on form. ","")) | AB5: =T5*1000000+O5*10000+(10000-ROW()) -> 12159995 | AC5: =IF(D5="Perth",AB5,0) -> 12159995 | AD5: =IF(D5="Fremantle",AB5,0) -> 0
A6: =COUNTIF($T$5:$T$297,">"&T6)+1 -> 1 | B6: F01-A | C6: F01 | D6: =INDEX('Summary by Assessment'!$C$5:$C$101,MATCH(C6,'Summary by Assessment'!$B$5:$B$101,0)) -> Fremantle | E6: Administration of Medication (National Regulation 92 (Medication Record), Reg 93 (Administration), Reg 95 (Procedure), Reg 168(2)(v)) | F6: Potential for Someone Getting Hurt (Child or Adult), Serious Incident, Damage or Reportable | G6: Not specified on form | H6: 15/01/2026 | I6: A | J6: Incorrect Dosage / Wrong Child | K6: Biological; Chemical; People | L6: Overdose, allergic reaction, or failure to treat condition. | M6: 4 | N6: 3 | O6: =M6*N6 -> 12 | P6: =INDEX('Scales & Matrix'!$B$13:$F$17,6-N6,M6) -> High | Q6: • Two-Person Check: Mandatory witness check of dosage, child’s name, medication name, and expiry before administration. • 5 Rights: Check: Right Child, Right Medication, Right Dose, Right Time, Right Route. • Original Container: Medication must be in original packaging with the pharmacy label (child’s name). | R6: 4 | S6: 3 | T6: =R6*S6 -> 12 | U6: =INDEX('Scales & Matrix'!$B$13:$F$17,6-S6,R6) -> High | V6: =O6-T6 -> 0 | W6: =IF(O6=0,0,V6/O6) -> 0 | X6: School Director or Responsible Person | Y6: High - 12 | Z6: High - 12 | AA6: =TRIM(IF(T6>O6,"Residual higher than inherent - check. ","")&IF(O6<>IFERROR(VALUE(TRIM(MID(Y6,FIND(" - ",Y6)+3,3))),0),"Inherent score differs from source form. ","")&IF(T6<>IFERROR(VALUE(TRIM(MID(Z6,FIND(" - ",Z6)+3,3))),0),"Residual score differs from source form. ","")&IF(LOWER(IFERROR(TRIM(LEFT(Z6,FIND(" - ",Z6)-1)),""))<>LOWER(U6),"Source residual rating shown as "&IFERROR(TRIM(LEFT(Z6,FIND(" - ",Z6)-1)),"")&". ","")&IF(LOWER(IFERROR(TRIM(LEFT(Y6,FIND(" - ",Y6)-1)),""))<>LOWER(P6),"Source inherent rating shown as "&IFERROR(TRIM(LEFT(Y6,FIND(" - ",Y6)-1)),"")&". ","")&IF(LEN(TRIM(L6))<6,"Placeholder - no hazard entered on form. ","")) | AB6: =T6*1000000+O6*10000+(10000-ROW()) -> 12129994 | AC6: =IF(D6="Perth",AB6,0) -> 0 | AD6: =IF(D6="Fremantle",AB6,0) -> 12129994
A7: =COUNTIF($T$5:$T$297,">"&T7)+1 -> 1 | B7: P18-E | C7: P18 | D7: =INDEX('Summary by Assessment'!$C$5:$C$101,MATCH(C7,'Summary by Assessment'!$B$5:$B$101,0)) -> Perth | E7: Incident: Missing Child / Absconding (National Regulation 99) | F7: School Event (General, Special Activities or Incursion, Other) | G7: Not specified on form | H7: 15/01/2026 | I7: E | J7: Missing Child Event | K7: Critical Incident; People | L7: Child lost / serious safety risk. | M7: 4 | N7: 3 | O7: =M7*N7 -> 12 | P7: =INDEX('Scales & Matrix'!$B$13:$F$17,6-N7,M7) -> High | Q7: Missing Child Procedure: 1. Alert Supervisor immediately., 2. Lockdown premises (nobody in/out). 3. Systematic search (rooms, cupboards, garden). 4. Call Police/Parents if not found within 60 minutes. | R7: 4 | S7: 3 | T7: =R7*S7 -> 12 | U7: =INDEX('Scales & Matrix'!$B$13:$F$17,6-S7,R7) -> High | V7: =O7-T7 -> 0 | W7: =IF(O7=0,0,V7/O7) -> 0 | X7: School Director | Y7: High - 12 | Z7: High - 12 | AA7: =TRIM(IF(T7>O7,"Residual higher than inherent - check. ","")&IF(O7<>IFERROR(VALUE(TRIM(MID(Y7,FIND(" - ",Y7)+3,3))),0),"Inherent score differs from source form. ","")&IF(T7<>IFERROR(VALUE(TRIM(MID(Z7,FIND(" - ",Z7)+3,3))),0),"Residual score differs from source form. ","")&IF(LOWER(IFERROR(TRIM(LEFT(Z7,FIND(" - ",Z7)-1)),""))<>LOWER(U7),"Source residual rating shown as "&IFERROR(TRIM(LEFT(Z7,FIND(" - ",Z7)-1)),"")&". ","")&IF(LOWER(IFERROR(TRIM(LEFT(Y7,FIND(" - ",Y7)-1)),""))<>LOWER(P7),"Source inherent rating shown as "&IFERROR(TRIM(LEFT(Y7,FIND(" - ",Y7)-1)),"")&". ","")&IF(LEN(TRIM(L7))<6,"Placeholder - no hazard entered on form. ","")) | AB7: =T7*1000000+O7*10000+(10000-ROW()) -> 12129993 | AC7: =IF(D7="Perth",AB7,0) -> 12129993 | AD7: =IF(D7="Fremantle",AB7,0) -> 0
A8: =COUNTIF($T$5:$T$297,">"&T8)+1 -> 1 | B8: F03-C | C8: F03 | D8: =INDEX('Summary by Assessment'!$C$5:$C$101,MATCH(C8,'Summary by Assessment'!$B$5:$B$101,0)) -> Fremantle | E8: Child Protection & Staff Conduct Risk Assessment Reg 84, 155 & 68(2)(h) | F8: Potential for Someone Getting Hurt (Child or Adult), Serious Incident, Damage or Reportable | G8: Not specified on form | H8: 8/12/2025 | I8: C | J8: Inappropriate Discipline | K8: Critical Incident; Socio-emotional; People | L8: Emotional trauma, physical injury, breach of rights. | M8: 3 | N8: 3 | O8: =M8*N8 -> 9 | P8: =INDEX('Scales & Matrix'!$B$13:$F$17,6-N8,M8) -> Moderate | Q8: The "Interactions with Children" policy prohibits corporal punishment, isolation, and shaming. Room Leaders monitor the language and tone of educators. Staff must immediately report colleague misconduct to the Approved Provider. A culture of reporting is encouraged; staff are urged to promptly report any misconduct to the Approved Provider. | R8: 4 | S8: 3 | T8: =R8*S8 -> 12 | U8: =INDEX('Scales & Matrix'!$B$13:$F$17,6-S8,R8) -> High | V8: =O8-T8 -> -3 | W8: =IF(O8=0,0,V8/O8) -> -0.33333333 | X8: School Director | Y8: Moderate - 9 | Z8: High - 12 | AA8: =TRIM(IF(T8>O8,"Residual higher than inherent - check. ","")&IF(O8<>IFERROR(VALUE(TRIM(MID(Y8,FIND(" - ",Y8)+3,3))),0),"Inherent score differs from source form. ","")&IF(T8<>IFERROR(VALUE(TRIM(MID(Z8,FIND(" - ",Z8)+3,3))),0),"Residual score differs from source form. ","")&IF(LOWER(IFERROR(TRIM(LEFT(Z8,FIND(" - ",Z8)-1)),""))<>LOWER(U8),"Source residual rating shown as "&IFERROR(TRIM(LEFT(Z8,FIND(" - ",Z8)-1)),"")&". ","")&IF(LOWER(IFERROR(TRIM(LEFT(Y8,FIND(" - ",Y8)-1)),""))<>LOWER(P8),"Source inherent rating shown as "&IFERROR(TRIM(LEFT(Y8,FIND(" - ",Y8)-1)),"")&". ","")&IF(LEN(TRIM(L8))<6,"Placeholder - no hazard entered on form. ","")) -> Residual higher than inherent - check. | AB8: =T8*1000000+O8*10000+(10000-ROW()) -> 12099992 | AC8: =IF(D8="Perth",AB8,0) -> 0 | AD8: =IF(D8="Fremantle",AB8,0) -> 12099992
A9: =COUNTIF($T$5:$T$297,">"&T9)+1 -> 1 | B9: P05-C | C9: P05 | D9: =INDEX('Summary by Assessment'!$C$5:$C$101,MATCH(C9,'Summary by Assessment'!$B$5:$B$101,0)) -> Perth | E9: Child Protection & Staff Conduct Risk Assessment Reg 84, 155 & 68(2)(h) | F9: Potential for Someone Getting Hurt (Child or Adult), Serious Incident, Damage or Reportable | G9: Not specified on form | H9: 15/01/2026 | I9: C | J9: Inappropriate Discipline | K9: Critical Incident; Socio-emotional; People | L9: Emotional trauma, physical injury, breach of rights. | M9: 3 | N9: 3 | O9: =M9*N9 -> 9 | P9: =INDEX('Scales & Matrix'!$B$13:$F$17,6-N9,M9) -> Moderate | Q9: The "Interactions with Children" policy prohibits corporal punishment, isolation, and shaming. Room Leaders monitor the language and tone of educators. Staff must immediately report colleague misconduct to the Approved Provider. A culture of reporting is encouraged; staff are urged to promptly report any misconduct to the Approved Provider. | R9: 4 | S9: 3 | T9: =R9*S9 -> 12 | U9: =INDEX('Scales & Matrix'!$B$13:$F$17,6-S9,R9) -> High | V9: =O9-T9 -> -3 | W9: =IF(O9=0,0,V9/O9) -> -0.33333333 | X9: School Director | Y9: Moderate - 9 | Z9: High - 12 | AA9: =TRIM(IF(T9>O9,"Residual higher than inherent - check. ","")&IF(O9<>IFERROR(VALUE(TRIM(MID(Y9,FIND(" - ",Y9)+3,3))),0),"Inherent score differs from source form. ","")&IF(T9<>IFERROR(VALUE(TRIM(MID(Z9,FIND(" - ",Z9)+3,3))),0),"Residual score differs from source form. ","")&IF(LOWER(IFERROR(TRIM(LEFT(Z9,FIND(" - ",Z9)-1)),""))<>LOWER(U9),"Source residual rating shown as "&IFERROR(TRIM(LEFT(Z9,FIND(" - ",Z9)-1)),"")&". ","")&IF(LOWER(IFERROR(TRIM(LEFT(Y9,FIND(" - ",Y9)-1)),""))<>LOWER(P9),"Source inherent rating shown as "&IFERROR(TRIM(LEFT(Y9,FIND(" - ",Y9)-1)),"")&". ","")&IF(LEN(TRIM(L9))<6,"Placeholder - no hazard entered on form. ","")) -> Residual higher than inherent - check. | AB9: =T9*1000000+O9*10000+(10000-ROW()) -> 12099991 | AC9: =IF(D9="Perth",AB9,0) -> 12099991 | AD9: =IF(D9="Fremantle",AB9,0) -> 0
A10: =COUNTIF($T$5:$T$297,">"&T10)+1 -> 6 | B10: F09-A | C10: F09 | D10: =INDEX('Summary by Assessment'!$C$5:$C$101,MATCH(C10,'Summary by Assessment'!$B$5:$B$101,0)) -> Fremantle | E10: Food Safety, Handling & Nutrition (National Regulation 77 (Health & Hygiene)), 77 and 79) | F10: Potential for Someone Getting Hurt (Child or Adult), Serious Incident, Damage or Reportable | G10: Not specified on form | H10: 8/12/2025 | I10: A | J10: Allergic Reaction / Anaphylaxis (Food Prep) | K10: Biological; Chemical; Critical Incident; People | L10: Severe allergic reaction or death due to cross-contamination. | M10: 5 | N10: 3 | O10: =M10*N10 -> 15 | P10: =INDEX('Scales & Matrix'!$B$13:$F$17,6-N10,M10) -> High | Q10: • Allergy Lists: Current dietary list displayed in kitchen (out of public view but visible to staff). • Separate Prep: Separate chopping boards/utensils for allergy meals. Allergy meals plated and covered first. • No Nut Policy: Strict prohibition of nuts (monitor lunchboxes if families provide food). | R10: 5 | S10: 2 | T10: =R10*S10 -> 10 | U10: =INDEX('Scales & Matrix'!$B$13:$F$17,6-S10,R10) -> High | V10: =O10-T10 -> 5 | W10: =IF(O10=0,0,V10/O10) -> 0.33333333 | X10: School Chef and Director | Y10: High - 15 | Z10: High - 10 | AA10: =TRIM(IF(T10>O10,"Residual higher than inherent - check. ","")&IF(O10<>IFERROR(VALUE(TRIM(MID(Y10,FIND(" - ",Y10)+3,3))),0),"Inherent score differs from source form. ","")&IF(T10<>IFERROR(VALUE(TRIM(MID(Z10,FIND(" - ",Z10)+3,3))),0),"Residual score differs from source form. ","")&IF(LOWER(IFERROR(TRIM(LEFT(Z10,FIND(" - ",Z10)-1)),""))<>LOWER(U10),"Source residual rating shown as "&IFERROR(TRIM(LEFT(Z10,FIND(" - ",Z10)-1)),"")&". ","")&IF(LOWER(IFERROR(TRIM(LEFT(Y10,FIND(" - ",Y10)-1)),""))<>LOWER(P10),"Source inherent rating shown as "&IFERROR(TRIM(LEFT(Y10,FIND(" - ",Y10)-1)),"")&". ","")&IF(LEN(TRIM(L10))<6,"Placeholder - no hazard entered on form. ","")) | AB10: =T10*1000000+O10*10000+(10000-ROW()) -> 10159990 | AC10: =IF(D10="Perth",AB10,0) -> 0 | AD10: =IF(D10="Fremantle",AB10,0) -> 10159990
A11: =COUNTIF($T$5:$T$297,">"&T11)+1 -> 6 | B11: F24-B | C11: F24 | D11: =INDEX('Summary by Assessment'!$C$5:$C$101,MATCH(C11,'Summary by Assessment'!$B$5:$B$101,0)) -> Fremantle | E11: Risk assessment for Medical Drill/ Actual Incident (National Reg 89, 90, 168) | F11: Potential for Someone Getting Hurt (Child or Adult), Serious Incident, Damage or Reportable | G11: Not specified on form | H11: 7/12/2025 | I11: B | J11: Initial response / first aid | K11: People | L11: Incorrect response; risk of worsening condition | M11: 5 | N11: 3 | O11: =M11*N11 -> 15 | P11: =INDEX('Scales & Matrix'!$B$13:$F$17,6-N11,M11) -> High | Q11: Trained first aiders; CPR/EpiPen training; first aid kits readily available | R11: 5 | S11: 2 | T11: =R11*S11 -> 10 | U11: =INDEX('Scales & Matrix'!$B$13:$F$17,6-S11,R11) -> High | V11: =O11-T11 -> 5 | W11: =IF(O11=0,0,V11/O11) -> 0.33333333 | X11: Laura Johnson | Y11: High - 15 | Z11: High - 10 | AA11: =TRIM(IF(T11>O11,"Residual higher than inherent - check. ","")&IF(O11<>IFERROR(VALUE(TRIM(MID(Y11,FIND(" - ",Y11)+3,3))),0),"Inherent score differs from source form. ","")&IF(T11<>IFERROR(VALUE(TRIM(MID(Z11,FIND(" - ",Z11)+3,3))),0),"Residual score differs from source form. ","")&IF(LOWER(IFERROR(TRIM(LEFT(Z11,FIND(" - ",Z11)-1)),""))<>LOWER(U11),"Source residual rating shown as "&IFERROR(TRIM(LEFT(Z11,FIND(" - ",Z11)-1)),"")&". ","")&IF(LOWER(IFERROR(TRIM(LEFT(Y11,FIND(" - ",Y11)-1)),""))<>LOWER(P11),"Source inherent rating shown as "&IFERROR(TRIM(LEFT(Y11,FIND(" - ",Y11)-1)),"")&". ","")&IF(LEN(TRIM(L11))<6,"Placeholder - no hazard entered on form. ","")) | AB11: =T11*1000000+O11*10000+(10000-ROW()) -> 10159989 | AC11: =IF(D11="Perth",AB11,0) -> 0 | AD11: =IF(D11="Fremantle",AB11,0) -> 10159989
A12: =COUNTIF($T$5:$T$297,">"&T12)+1 -> 6 | B12: F28-C | C12: F28 | D12: =INDEX('Summary by Assessment'!$C$5:$C$101,MATCH(C12,'Summary by Assessment'!$B$5:$B$101,0)) -> Fremantle | E12: Serious Incident, Damage or Reportable Event (National Reg 167 & 174, 175, 176) | F12: Potential for Someone Getting Hurt (Child or Adult), Serious Incident, Damage or Reportable | G12: Not specified on form | H12: 5/12/2025 | I12: C | J12: Movement of people to safe locations | K12: People | L12: Exposure to threat; children moving unsupervised; risk of injury | M12: 5 | N12: 3 | O12: =M12*N12 -> 15 | P12: =INDEX('Scales & Matrix'!$B$13:$F$17,6-N12,M12) -> High | Q12: Staff guide children to safe areas; minimise movement; clear procedure for gathering in secure rooms | R12: 5 | S12: 2 | T12: =R12*S12 -> 10 | U12: =INDEX('Scales & Matrix'!$B$13:$F$17,6-S12,R12) -> High | V12: =O12-T12 -> 5 | W12: =IF(O12=0,0,V12/O12) -> 0.33333333 | X12: Ashlee Jarvis | Y12: High - 15 | Z12: High - 10 | AA12: =TRIM(IF(T12>O12,"Residual higher than inherent - check. ","")&IF(O12<>IFERROR(VALUE(TRIM(MID(Y12,FIND(" - ",Y12)+3,3))),0),"Inherent score differs from source form. ","")&IF(T12<>IFERROR(VALUE(TRIM(MID(Z12,FIND(" - ",Z12)+3,3))),0),"Residual score differs from source form. ","")&IF(LOWER(IFERROR(TRIM(LEFT(Z12,FIND(" - ",Z12)-1)),""))<>LOWER(U12),"Source residual rating shown as "&IFERROR(TRIM(LEFT(Z12,FIND(" - ",Z12)-1)),"")&". ","")&IF(LOWER(IFERROR(TRIM(LEFT(Y12,FIND(" - ",Y12)-1)),""))<>LOWER(P12),"Source inherent rating shown as "&IFERROR(TRIM(LEFT(Y12,FIND(" - ",Y12)-1)),"")&". ","")&IF(LEN(TRIM(L12))<6,"Placeholder - no hazard entered on form. ","")) | AB12: =T12*1000000+O12*10000+(10000-ROW()) -> 10159988 | AC12: =IF(D12="Perth",AB12,0) -> 0 | AD12: =IF(D12="Fremantle",AB12,0) -> 10159988
A13: =COUNTIF($T$5:$T$297,">"&T13)+1 -> 6 | B13: F31-B | C13: F31 | D13: =INDEX('Summary by Assessment'!$C$5:$C$101,MATCH(C13,'Summary by Assessment'!$B$5:$B$101,0)) -> Fremantle | E13: Someone Getting Hurt (Child or Adult) (NQF National Reg. 167, 168, 175) - Adult WHS (Reg 12) | F13: Potential for Someone Getting Hurt (Child or Adult), Serious Incident, Damage or Reportable | G13: Not specified on form | H13: 5/12/2025 | I13: B | J13: Initial response / first aid | K13: People | L13: Incorrect response; risk of worsening condition | M13: 5 | N13: 3 | O13: =M13*N13 -> 15 | P13: =INDEX('Scales & Matrix'!$B$13:$F$17,6-N13,M13) -> High | Q13: Trained first aiders; CPR/EpiPen training; first aid kits readily available | R13: 5 | S13: 2 | T13: =R13*S13 -> 10 | U13: =INDEX('Scales & Matrix'!$B$13:$F$17,6-S13,R13) -> High | V13: =O13-T13 -> 5 | W13: =IF(O13=0,0,V13/O13) -> 0.33333333 | X13: Ashlee Jarvis | Y13: High - 15 | Z13: High - 10 | AA13: =TRIM(IF(T13>O13,"Residual higher than inherent - check. ","")&IF(O13<>IFERROR(VALUE(TRIM(MID(Y13,FIND(" - ",Y13)+3,3))),0),"Inherent score differs from source form. ","")&IF(T13<>IFERROR(VALUE(TRIM(MID(Z13,FIND(" - ",Z13)+3,3))),0),"Residual score differs from source form. ","")&IF(LOWER(IFERROR(TRIM(LEFT(Z13,FIND(" - ",Z13)-1)),""))<>LOWER(U13),"Source residual rating shown as "&IFERROR(TRIM(LEFT(Z13,FIND(" - ",Z13)-1)),"")&". ","")&IF(LOWER(IFERROR(TRIM(LEFT(Y13,FIND(" - ",Y13)-1)),""))<>LOWER(P13),"Source inherent rating shown as "&IFERROR(TRIM(LEFT(Y13,FIND(" - ",Y13)-1)),"")&". ","")&IF(LEN(TRIM(L13))<6,"Placeholder - no hazard entered on form. ","")) | AB13: =T13*1000000+O13*10000+(10000-ROW()) -> 10159987 | AC13: =IF(D13="Perth",AB13,0) -> 0 | AD13: =IF(D13="Fremantle",AB13,0) -> 10159987
A14: =COUNTIF($T$5:$T$297,">"&T14)+1 -> 6 | B14: P15-E | C14: P15 | D14: =INDEX('Summary by Assessment'!$C$5:$C$101,MATCH(C14,'Summary by Assessment'!$B$5:$B$101,0)) -> Perth | E14: Fire Evacuation Risk Assessment (National Reg 97, 158) | F14: Potential for Someone Getting Hurt (Child or Adult), Serious Incident, Damage or Reportable | G14: Not specified on form | H14: 16/09/2025 | I14: E | J14: Safe designated area away from building; clearly communicated location; staff supervision; re-entry only when authorised | K14: People | L14: Individuals with mobility, sensory, or medical needs unable to evacuate safely | M14: 5 | N14: 3 | O14: =M14*N14 -> 15 | P14: =INDEX('Scales & Matrix'!$B$13:$F$17,6-N14,M14) -> High | Q14: Individual evacuation plans / assigned helpers; evacuation chairs/refuge areas; training for staff | R14: 5 | S14: 2 | T14: =R14*S14 -> 10 | U14: =INDEX('Scales & Matrix'!$B$13:$F$17,6-S14,R14) -> High | V14: =O14-T14 -> 5 | W14: =IF(O14=0,0,V14/O14) -> 0.33333333 | X14: Laura Johnson | Y14: High - 15 | Z14: High - 10 | AA14: =TRIM(IF(T14>O14,"Residual higher than inherent - check. ","")&IF(O14<>IFERROR(VALUE(TRIM(MID(Y14,FIND(" - ",Y14)+3,3))),0),"Inherent score differs from source form. ","")&IF(T14<>IFERROR(VALUE(TRIM(MID(Z14,FIND(" - ",Z14)+3,3))),0),"Residual score differs from source form. ","")&IF(LOWER(IFERROR(TRIM(LEFT(Z14,FIND(" - ",Z14)-1)),""))<>LOWER(U14),"Source residual rating shown as "&IFERROR(TRIM(LEFT(Z14,FIND(" - ",Z14)-1)),"")&". ","")&IF(LOWER(IFERROR(TRIM(LEFT(Y14,FIND(" - ",Y14)-1)),""))<>LOWER(P14),"Source inherent rating shown as "&IFERROR(TRIM(LEFT(Y14,FIND(" - ",Y14)-1)),"")&". ","")&IF(LEN(TRIM(L14))<6,"Placeholder - no hazard entered on form. ","")) | AB14: =T14*1000000+O14*10000+(10000-ROW()) -> 10159986 | AC14: =IF(D14="Perth",AB14,0) -> 10159986 | AD14: =IF(D14="Fremantle",AB14,0) -> 0
A15: =COUNTIF($T$5:$T$297,">"&T15)+1 -> 6 | B15: P16-A | C15: P16 | D15: =INDEX('Summary by Assessment'!$C$5:$C$101,MATCH(C15,'Summary by Assessment'!$B$5:$B$101,0)) -> Perth | E15: Food Safety, Handling & Nutrition (National Regulation 77 (Health & Hygiene)), 77 and 79) | F15: Potential for Someone Getting Hurt (Child or Adult), Serious Incident, Damage or Reportable | G15: Not specified on form | H15: 15/01/2026 | I15: A | J15: Allergic Reaction / Anaphylaxis (Food Prep) | K15: Biological; Chemical; Critical Incident; People | L15: Severe allergic reaction or death due to cross-contamination. | M15: 5 | N15: 3 | O15: =M15*N15 -> 15 | P15: =INDEX('Scales & Matrix'!$B$13:$F$17,6-N15,M15) -> High | Q15: • Allergy Lists: Current dietary list displayed in kitchen (out of public view but visible to staff). • Separate Prep: Separate chopping boards/utensils for allergy meals. Allergy meals plated and covered first. • No Nut Policy: Strict prohibition of nuts (monitor lunchboxes if families provide food). | R15: 5 | S15: 2 | T15: =R15*S15 -> 10 | U15: =INDEX('Scales & Matrix'!$B$13:$F$17,6-S15,R15) -> High | V15: =O15-T15 -> 5 | W15: =IF(O15=0,0,V15/O15) -> 0.33333333 | X15: School Chef and Director | Y15: High - 15 | Z15: High - 10 | AA15: =TRIM(IF(T15>O15,"Residual higher than inherent - check. ","")&IF(O15<>IFERROR(VALUE(TRIM(MID(Y15,FIND(" - ",Y15)+3,3))),0),"Inherent score differs from source form. ","")&IF(T15<>IFERROR(VALUE(TRIM(MID(Z15,FIND(" - ",Z15)+3,3))),0),"Residual score differs from source form. ","")&IF(LOWER(IFERROR(TRIM(LEFT(Z15,FIND(" - ",Z15)-1)),""))<>LOWER(U15),"Source residual rating shown as "&IFERROR(TRIM(LEFT(Z15,FIND(" - ",Z15)-1)),"")&". ","")&IF(LOWER(IFERROR(TRIM(LEFT(Y15,FIND(" - ",Y15)-1)),""))<>LOWER(P15),"Source inherent rating shown as "&IFERROR(TRIM(LEFT(Y15,FIND(" - ",Y15)-1)),"")&". ","")&IF(LEN(TRIM(L15))<6,"Placeholder - no hazard entered on form. ","")) | AB15: =T15*1000000+O15*10000+(10000-ROW()) -> 10159985 | AC15: =IF(D15="Perth",AB15,0) -> 10159985 | AD15: =IF(D15="Fremantle",AB15,0) -> 0
A16: =COUNTIF($T$5:$T$297,">"&T16)+1 -> 6 | B16: P23-B | C16: P23 | D16: =INDEX('Summary by Assessment'!$C$5:$C$101,MATCH(C16,'Summary by Assessment'!$B$5:$B$101,0)) -> Perth | E16: Medical Drill/ Actual Incident (National Reg 87, 97, 101, 115) | F16: Potential for Someone Getting Hurt (Child or Adult), Serious Incident, Damage or Reportable | G16: Not specified on form | H16: 16/09/2025 | I16: B | J16: Initial response / first aid | K16: People | L16: Incorrect response; risk of worsening condition | M16: 5 | N16: 3 | O16: =M16*N16 -> 15 | P16: =INDEX('Scales & Matrix'!$B$13:$F$17,6-N16,M16) -> High | Q16: Trained first aiders; CPR/EpiPen training; first aid kits readily available | R16: 5 | S16: 2 | T16: =R16*S16 -> 10 | U16: =INDEX('Scales & Matrix'!$B$13:$F$17,6-S16,R16) -> High | V16: =O16-T16 -> 5 | W16: =IF(O16=0,0,V16/O16) -> 0.33333333 | X16: Laura Johnson | Y16: High - 15 | Z16: High - 10 | AA16: =TRIM(IF(T16>O16,"Residual higher than inherent - check. ","")&IF(O16<>IFERROR(VALUE(TRIM(MID(Y16,FIND(" - ",Y16)+3,3))),0),"Inherent score differs from source form. ","")&IF(T16<>IFERROR(VALUE(TRIM(MID(Z16,FIND(" - ",Z16)+3,3))),0),"Residual score differs from source form. ","")&IF(LOWER(IFERROR(TRIM(LEFT(Z16,FIND(" - ",Z16)-1)),""))<>LOWER(U16),"Source residual rating shown as "&IFERROR(TRIM(LEFT(Z16,FIND(" - ",Z16)-1)),"")&". ","")&IF(LOWER(IFERROR(TRIM(LEFT(Y16,FIND(" - ",Y16)-1)),""))<>LOWER(P16),"Source inherent rating shown as "&IFERROR(TRIM(LEFT(Y16,FIND(" - ",Y16)-1)),"")&". ","")&IF(LEN(TRIM(L16))<6,"Placeholder - no hazard entered on form. ","")) | AB16: =T16*1000000+O16*10000+(10000-ROW()) -> 10159984 | AC16: =IF(D16="Perth",AB16,0) -> 10159984 | AD16: =IF(D16="Fremantle",AB16,0) -> 0
... A297: =COUNTIF($T$5:$T$297,">"&T297)+1 -> 261 | B297: P57-B | C297: P57 | D297: =INDEX('Summary by Assessment'!$C$5:$C$101,MATCH(C297,'Summary by Assessment'!$B$5:$B$101,0)) -> Perth | E297: Wooden marble run - New or Current Educational Resources/Experience | F297: New or Current Educational Resources/Experience | G297: Not specified on form | H297: 25/06/2026 | I297: B | J297: - | K297: Biological | L297: - | M297: 1 | N297: 1 | O297: =M297*N297 -> 1 | P297: =INDEX('Scales & Matrix'!$B$13:$F$17,6-N297,M297) -> Very Low | Q297: - | R297: 1 | S297: 1 | T297: =R297*S297 -> 1 | U297: =INDEX('Scales & Matrix'!$B$13:$F$17,6-S297,R297) -> Very Low | V297: =O297-T297 -> 0 | W297: =IF(O297=0,0,V297/O297) -> 0 | X297: - | Y297: Very Low - 1 | Z297: Very Low - 1 | AA297: =TRIM(IF(T297>O297,"Residual higher than inherent - check. ","")&IF(O297<>IFERROR(VALUE(TRIM(MID(Y297,FIND(" - ",Y297)+3,3))),0),"Inherent score differs from source form. ","")&IF(T297<>IFERROR(VALUE(TRIM(MID(Z297,FIND(" - ",Z297)+3,3))),0),"Residual score differs from source form. ","")&IF(LOWER(IFERROR(TRIM(LEFT(Z297,FIND(" - ",Z297)-1)),""))<>LOWER(U297),"Source residual rating shown as "&IFERROR(TRIM(LEFT(Z297,FIND(" - ",Z297)-1)),"")&". ","")&IF(LOWER(IFERROR(TRIM(LEFT(Y297,FIND(" - ",Y297)-1)),""))<>LOWER(P297),"Source inherent rating shown as "&IFERROR(TRIM(LEFT(Y297,FIND(" - ",Y297)-1)),"")&". ","")&IF(LEN(TRIM(L297))<6,"Placeholder - no hazard entered on form. ","")) -> Placeholder - no hazard entered on form. | AB297: =T297*1000000+O297*10000+(10000-ROW()) -> 1019703 | AC297: =IF(D297="Perth",AB297,0) -> 1019703 | AD297: =IF(D297="Fremantle",AB297,0) -> 0

Sheet Top 10 - Overall
A1: Top 10 Risks - Overall (Perth & Fremantle) - ranked by residual score (with mitigations)
A2: Live: updates automatically when Consequence/Likelihood scores or School change in the Risk Register. Ties are ordered by inherent score, then register order.
A4: Rank | B4: key | C4: row | D4: Risk ID | E4: School | F4: Risk Assessment | G4: Hazard description | H4: Inherent C | I4: Inherent L | J4: Inherent Score | K4: Inherent Rating | L4: Mitigation / Controls applied | M4: Residual C | N4: Residual L | O4: Residual Score | P4: Residual Rating | Q4: Score reduction
A5: 1 | B5: =IFERROR(LARGE('Risk Register'!$AB$5:$AB$297,A5),0) -> 12159995 | C5: =IF(B5>0,MATCH(B5,'Risk Register'!$AB$5:$AB$297,0),0) -> 1 | D5: =IF($C5=0,"",INDEX('Risk Register'!$B$5:$B$297,$C5)) -> P36-C | E5: =IF($C5=0,"",INDEX('Risk Register'!$D$5:$D$297,$C5)) -> Perth | F5: =IF($C5=0,"",INDEX('Risk Register'!$E$5:$E$297,$C5)) -> School Event: Nursery Studio Easter Stay & Play (National Reg. 101, 115, 167) | G5: =IF($C5=0,"",INDEX('Risk Register'!$L$5:$L$297,$C5)) -> Child eating the instruments and swallow some of the smaller bits on the musical instruments. | H5: =IF($C5=0,"",INDEX('Risk Register'!$M$5:$M$297,$C5)) -> 5 | I5: =IF($C5=0,"",INDEX('Risk Register'!$N$5:$N$297,$C5)) -> 3 | J5: =IF($C5=0,"",INDEX('Risk Register'!$O$5:$O$297,$C5)) -> 15 | K5: =IF($C5=0,"",INDEX('Risk Register'!$P$5:$P$297,$C5)) -> High | L5: =IF($C5=0,"",INDEX('Risk Register'!$Q$5:$Q$297,$C5)) -> Closely supervision and check instruments to see if any bits are close or a danger to the children | M5: =IF($C5=0,"",INDEX('Risk Register'!$R$5:$R$297,$C5)) -> 4 | N5: =IF($C5=0,"",INDEX('Risk Register'!$S$5:$S$297,$C5)) -> 3 | O5: =IF($C5=0,"",INDEX('Risk Register'!$T$5:$T$297,$C5)) -> 12 | P5: =IF($C5=0,"",INDEX('Risk Register'!$U$5:$U$297,$C5)) -> High | Q5: =IF($C5=0,"",INDEX('Risk Register'!$V$5:$V$297,$C5)) -> 3
A6: 2 | B6: =IFERROR(LARGE('Risk Register'!$AB$5:$AB$297,A6),0) -> 12129994 | C6: =IF(B6>0,MATCH(B6,'Risk Register'!$AB$5:$AB$297,0),0) -> 2 | D6: =IF($C6=0,"",INDEX('Risk Register'!$B$5:$B$297,$C6)) -> F01-A | E6: =IF($C6=0,"",INDEX('Risk Register'!$D$5:$D$297,$C6)) -> Fremantle | F6: =IF($C6=0,"",INDEX('Risk Register'!$E$5:$E$297,$C6)) -> Administration of Medication (National Regulation 92 (Medication Record), Reg 93 (Administration), Reg 95 (Procedure), Reg 168(2)(v)) | G6: =IF($C6=0,"",INDEX('Risk Register'!$L$5:$L$297,$C6)) -> Overdose, allergic reaction, or failure to treat condition. | H6: =IF($C6=0,"",INDEX('Risk Register'!$M$5:$M$297,$C6)) -> 4 | I6: =IF($C6=0,"",INDEX('Risk Register'!$N$5:$N$297,$C6)) -> 3 | J6: =IF($C6=0,"",INDEX('Risk Register'!$O$5:$O$297,$C6)) -> 12 | K6: =IF($C6=0,"",INDEX('Risk Register'!$P$5:$P$297,$C6)) -> High | L6: =IF($C6=0,"",INDEX('Risk Register'!$Q$5:$Q$297,$C6)) -> • Two-Person Check: Mandatory witness check of dosage, child’s name, medication name, and expiry before administration. • 5 Rights: Check: Right Child, Right Medication, Right Dose, Right Time, Right Route. • Original Container: Medication must be in original packaging with the pharmacy label (child’s name). | M6: =IF($C6=0,"",INDEX('Risk Register'!$R$5:$R$297,$C6)) -> 4 | N6: =IF($C6=0,"",INDEX('Risk Register'!$S$5:$S$297,$C6)) -> 3 | O6: =IF($C6=0,"",INDEX('Risk Register'!$T$5:$T$297,$C6)) -> 12 | P6: =IF($C6=0,"",INDEX('Risk Register'!$U$5:$U$297,$C6)) -> High | Q6: =IF($C6=0,"",INDEX('Risk Register'!$V$5:$V$297,$C6)) -> 0
A7: 3 | B7: =IFERROR(LARGE('Risk Register'!$AB$5:$AB$297,A7),0) -> 12129993 | C7: =IF(B7>0,MATCH(B7,'Risk Register'!$AB$5:$AB$297,0),0) -> 3 | D7: =IF($C7=0,"",INDEX('Risk Register'!$B$5:$B$297,$C7)) -> P18-E | E7: =IF($C7=0,"",INDEX('Risk Register'!$D$5:$D$297,$C7)) -> Perth | F7: =IF($C7=0,"",INDEX('Risk Register'!$E$5:$E$297,$C7)) -> Incident: Missing Child / Absconding (National Regulation 99) | G7: =IF($C7=0,"",INDEX('Risk Register'!$L$5:$L$297,$C7)) -> Child lost / serious safety risk. | H7: =IF($C7=0,"",INDEX('Risk Register'!$M$5:$M$297,$C7)) -> 4 | I7: =IF($C7=0,"",INDEX('Risk Register'!$N$5:$N$297,$C7)) -> 3 | J7: =IF($C7=0,"",INDEX('Risk Register'!$O$5:$O$297,$C7)) -> 12 | K7: =IF($C7=0,"",INDEX('Risk Register'!$P$5:$P$297,$C7)) -> High | L7: =IF($C7=0,"",INDEX('Risk Register'!$Q$5:$Q$297,$C7)) -> Missing Child Procedure: 1. Alert Supervisor immediately., 2. Lockdown premises (nobody in/out). 3. Systematic search (rooms, cupboards, garden). 4. Call Police/Parents if not found within 60 minutes. | M7: =IF($C7=0,"",INDEX('Risk Register'!$R$5:$R$297,$C7)) -> 4 | N7: =IF($C7=0,"",INDEX('Risk Register'!$S$5:$S$297,$C7)) -> 3 | O7: =IF($C7=0,"",INDEX('Risk Register'!$T$5:$T$297,$C7)) -> 12 | P7: =IF($C7=0,"",INDEX('Risk Register'!$U$5:$U$297,$C7)) -> High | Q7: =IF($C7=0,"",INDEX('Risk Register'!$V$5:$V$297,$C7)) -> 0
A8: 4 | B8: =IFERROR(LARGE('Risk Register'!$AB$5:$AB$297,A8),0) -> 12099992 | C8: =IF(B8>0,MATCH(B8,'Risk Register'!$AB$5:$AB$297,0),0) -> 4 | D8: =IF($C8=0,"",INDEX('Risk Register'!$B$5:$B$297,$C8)) -> F03-C | E8: =IF($C8=0,"",INDEX('Risk Register'!$D$5:$D$297,$C8)) -> Fremantle | F8: =IF($C8=0,"",INDEX('Risk Register'!$E$5:$E$297,$C8)) -> Child Protection & Staff Conduct Risk Assessment Reg 84, 155 & 68(2)(h) | G8: =IF($C8=0,"",INDEX('Risk Register'!$L$5:$L$297,$C8)) -> Emotional trauma, physical injury, breach of rights. | H8: =IF($C8=0,"",INDEX('Risk Register'!$M$5:$M$297,$C8)) -> 3 | I8: =IF($C8=0,"",INDEX('Risk Register'!$N$5:$N$297,$C8)) -> 3 | J8: =IF($C8=0,"",INDEX('Risk Register'!$O$5:$O$297,$C8)) -> 9 | K8: =IF($C8=0,"",INDEX('Risk Register'!$P$5:$P$297,$C8)) -> Moderate | L8: =IF($C8=0,"",INDEX('Risk Register'!$Q$5:$Q$297,$C8)) -> The "Interactions with Children" policy prohibits corporal punishment, isolation, and shaming. Room Leaders monitor the language and tone of educators. Staff must immediately report colleague misconduct to the Approved Provider. A culture of reporting is encouraged; staff are urged to promptly report any misconduct to the Approved Provider. | M8: =IF($C8=0,"",INDEX('Risk Register'!$R$5:$R$297,$C8)) -> 4 | N8: =IF($C8=0,"",INDEX('Risk Register'!$S$5:$S$297,$C8)) -> 3 | O8: =IF($C8=0,"",INDEX('Risk Register'!$T$5:$T$297,$C8)) -> 12 | P8: =IF($C8=0,"",INDEX('Risk Register'!$U$5:$U$297,$C8)) -> High | Q8: =IF($C8=0,"",INDEX('Risk Register'!$V$5:$V$297,$C8)) -> -3
A9: 5 | B9: =IFERROR(LARGE('Risk Register'!$AB$5:$AB$297,A9),0) -> 12099991 | C9: =IF(B9>0,MATCH(B9,'Risk Register'!$AB$5:$AB$297,0),0) -> 5 | D9: =IF($C9=0,"",INDEX('Risk Register'!$B$5:$B$297,$C9)) -> P05-C | E9: =IF($C9=0,"",INDEX('Risk Register'!$D$5:$D$297,$C9)) -> Perth | F9: =IF($C9=0,"",INDEX('Risk Register'!$E$5:$E$297,$C9)) -> Child Protection & Staff Conduct Risk Assessment Reg 84, 155 & 68(2)(h) | G9: =IF($C9=0,"",INDEX('Risk Register'!$L$5:$L$297,$C9)) -> Emotional trauma, physical injury, breach of rights. | H9: =IF($C9=0,"",INDEX('Risk Register'!$M$5:$M$297,$C9)) -> 3 | I9: =IF($C9=0,"",INDEX('Risk Register'!$N$5:$N$297,$C9)) -> 3 | J9: =IF($C9=0,"",INDEX('Risk Register'!$O$5:$O$297,$C9)) -> 9 | K9: =IF($C9=0,"",INDEX('Risk Register'!$P$5:$P$297,$C9)) -> Moderate | L9: =IF($C9=0,"",INDEX('Risk Register'!$Q$5:$Q$297,$C9)) -> The "Interactions with Children" policy prohibits corporal punishment, isolation, and shaming. Room Leaders monitor the language and tone of educators. Staff must immediately report colleague misconduct to the Approved Provider. A culture of reporting is encouraged; staff are urged to promptly report any misconduct to the Approved Provider. | M9: =IF($C9=0,"",INDEX('Risk Register'!$R$5:$R$297,$C9)) -> 4 | N9: =IF($C9=0,"",INDEX('Risk Register'!$S$5:$S$297,$C9)) -> 3 | O9: =IF($C9=0,"",INDEX('Risk Register'!$T$5:$T$297,$C9)) -> 12 | P9: =IF($C9=0,"",INDEX('Risk Register'!$U$5:$U$297,$C9)) -> High | Q9: =IF($C9=0,"",INDEX('Risk Register'!$V$5:$V$297,$C9)) -> -3
A10: 6 | B10: =IFERROR(LARGE('Risk Register'!$AB$5:$AB$297,A10),0) -> 10159990 | C10: =IF(B10>0,MATCH(B10,'Risk Register'!$AB$5:$AB$297,0),0) -> 6 | D10: =IF($C10=0,"",INDEX('Risk Register'!$B$5:$B$297,$C10)) -> F09-A | E10: =IF($C10=0,"",INDEX('Risk Register'!$D$5:$D$297,$C10)) -> Fremantle | F10: =IF($C10=0,"",INDEX('Risk Register'!$E$5:$E$297,$C10)) -> Food Safety, Handling & Nutrition (National Regulation 77 (Health & Hygiene)), 77 and 79) | G10: =IF($C10=0,"",INDEX('Risk Register'!$L$5:$L$297,$C10)) -> Severe allergic reaction or death due to cross-contamination. | H10: =IF($C10=0,"",INDEX('Risk Register'!$M$5:$M$297,$C10)) -> 5 | I10: =IF($C10=0,"",INDEX('Risk Register'!$N$5:$N$297,$C10)) -> 3 | J10: =IF($C10=0,"",INDEX('Risk Register'!$O$5:$O$297,$C10)) -> 15 | K10: =IF($C10=0,"",INDEX('Risk Register'!$P$5:$P$297,$C10)) -> High | L10: =IF($C10=0,"",INDEX('Risk Register'!$Q$5:$Q$297,$C10)) -> • Allergy Lists: Current dietary list displayed in kitchen (out of public view but visible to staff). • Separate Prep: Separate chopping boards/utensils for allergy meals. Allergy meals plated and covered first. • No Nut Policy: Strict prohibition of nuts (monitor lunchboxes if families provide food). | M10: =IF($C10=0,"",INDEX('Risk Register'!$R$5:$R$297,$C10)) -> 5 | N10: =IF($C10=0,"",INDEX('Risk Register'!$S$5:$S$297,$C10)) -> 2 | O10: =IF($C10=0,"",INDEX('Risk Register'!$T$5:$T$297,$C10)) -> 10 | P10: =IF($C10=0,"",INDEX('Risk Register'!$U$5:$U$297,$C10)) -> High | Q10: =IF($C10=0,"",INDEX('Risk Register'!$V$5:$V$297,$C10)) -> 5
A11: 7 | B11: =IFERROR(LARGE('Risk Register'!$AB$5:$AB$297,A11),0) -> 10159989 | C11: =IF(B11>0,MATCH(B11,'Risk Register'!$AB$5:$AB$297,0),0) -> 7 | D11: =IF($C11=0,"",INDEX('Risk Register'!$B$5:$B$297,$C11)) -> F24-B | E11: =IF($C11=0,"",INDEX('Risk Register'!$D$5:$D$297,$C11)) -> Fremantle | F11: =IF($C11=0,"",INDEX('Risk Register'!$E$5:$E$297,$C11)) -> Risk assessment for Medical Drill/ Actual Incident (National Reg 89, 90, 168) | G11: =IF($C11=0,"",INDEX('Risk Register'!$L$5:$L$297,$C11)) -> Incorrect response; risk of worsening condition | H11: =IF($C11=0,"",INDEX('Risk Register'!$M$5:$M$297,$C11)) -> 5 | I11: =IF($C11=0,"",INDEX('Risk Register'!$N$5:$N$297,$C11)) -> 3 | J11: =IF($C11=0,"",INDEX('Risk Register'!$O$5:$O$297,$C11)) -> 15 | K11: =IF($C11=0,"",INDEX('Risk Register'!$P$5:$P$297,$C11)) -> High | L11: =IF($C11=0,"",INDEX('Risk Register'!$Q$5:$Q$297,$C11)) -> Trained first aiders; CPR/EpiPen training; first aid kits readily available | M11: =IF($C11=0,"",INDEX('Risk Register'!$R$5:$R$297,$C11)) -> 5 | N11: =IF($C11=0,"",INDEX('Risk Register'!$S$5:$S$297,$C11)) -> 2 | O11: =IF($C11=0,"",INDEX('Risk Register'!$T$5:$T$297,$C11)) -> 10 | P11: =IF($C11=0,"",INDEX('Risk Register'!$U$5:$U$297,$C11)) -> High | Q11: =IF($C11=0,"",INDEX('Risk Register'!$V$5:$V$297,$C11)) -> 5
A12: 8 | B12: =IFERROR(LARGE('Risk Register'!$AB$5:$AB$297,A12),0) -> 10159988 | C12: =IF(B12>0,MATCH(B12,'Risk Register'!$AB$5:$AB$297,0),0) -> 8 | D12: =IF($C12=0,"",INDEX('Risk Register'!$B$5:$B$297,$C12)) -> F28-C | E12: =IF($C12=0,"",INDEX('Risk Register'!$D$5:$D$297,$C12)) -> Fremantle | F12: =IF($C12=0,"",INDEX('Risk Register'!$E$5:$E$297,$C12)) -> Serious Incident, Damage or Reportable Event (National Reg 167 & 174, 175, 176) | G12: =IF($C12=0,"",INDEX('Risk Register'!$L$5:$L$297,$C12)) -> Exposure to threat; children moving unsupervised; risk of injury | H12: =IF($C12=0,"",INDEX('Risk Register'!$M$5:$M$297,$C12)) -> 5 | I12: =IF($C12=0,"",INDEX('Risk Register'!$N$5:$N$297,$C12)) -> 3 | J12: =IF($C12=0,"",INDEX('Risk Register'!$O$5:$O$297,$C12)) -> 15 | K12: =IF($C12=0,"",INDEX('Risk Register'!$P$5:$P$297,$C12)) -> High | L12: =IF($C12=0,"",INDEX('Risk Register'!$Q$5:$Q$297,$C12)) -> Staff guide children to safe areas; minimise movement; clear procedure for gathering in secure rooms | M12: =IF($C12=0,"",INDEX('Risk Register'!$R$5:$R$297,$C12)) -> 5 | N12: =IF($C12=0,"",INDEX('Risk Register'!$S$5:$S$297,$C12)) -> 2 | O12: =IF($C12=0,"",INDEX('Risk Register'!$T$5:$T$297,$C12)) -> 10 | P12: =IF($C12=0,"",INDEX('Risk Register'!$U$5:$U$297,$C12)) -> High | Q12: =IF($C12=0,"",INDEX('Risk Register'!$V$5:$V$297,$C12)) -> 5
A13: 9 | B13: =IFERROR(LARGE('Risk Register'!$AB$5:$AB$297,A13),0) -> 10159987 | C13: =IF(B13>0,MATCH(B13,'Risk Register'!$AB$5:$AB$297,0),0) -> 9 | D13: =IF($C13=0,"",INDEX('Risk Register'!$B$5:$B$297,$C13)) -> F31-B | E13: =IF($C13=0,"",INDEX('Risk Register'!$D$5:$D$297,$C13)) -> Fremantle | F13: =IF($C13=0,"",INDEX('Risk Register'!$E$5:$E$297,$C13)) -> Someone Getting Hurt (Child or Adult) (NQF National Reg. 167, 168, 175) - Adult WHS (Reg 12) | G13: =IF($C13=0,"",INDEX('Risk Register'!$L$5:$L$297,$C13)) -> Incorrect response; risk of worsening condition | H13: =IF($C13=0,"",INDEX('Risk Register'!$M$5:$M$297,$C13)) -> 5 | I13: =IF($C13=0,"",INDEX('Risk Register'!$N$5:$N$297,$C13)) -> 3 | J13: =IF($C13=0,"",INDEX('Risk Register'!$O$5:$O$297,$C13)) -> 15 | K13: =IF($C13=0,"",INDEX('Risk Register'!$P$5:$P$297,$C13)) -> High | L13: =IF($C13=0,"",INDEX('Risk Register'!$Q$5:$Q$297,$C13)) -> Trained first aiders; CPR/EpiPen training; first aid kits readily available | M13: =IF($C13=0,"",INDEX('Risk Register'!$R$5:$R$297,$C13)) -> 5 | N13: =IF($C13=0,"",INDEX('Risk Register'!$S$5:$S$297,$C13)) -> 2 | O13: =IF($C13=0,"",INDEX('Risk Register'!$T$5:$T$297,$C13)) -> 10 | P13: =IF($C13=0,"",INDEX('Risk Register'!$U$5:$U$297,$C13)) -> High | Q13: =IF($C13=0,"",INDEX('Risk Register'!$V$5:$V$297,$C13)) -> 5
A14: 10 | B14: =IFERROR(LARGE('Risk Register'!$AB$5:$AB$297,A14),0) -> 10159986 | C14: =IF(B14>0,MATCH(B14,'Risk Register'!$AB$5:$AB$297,0),0) -> 10 | D14: =IF($C14=0,"",INDEX('Risk Register'!$B$5:$B$297,$C14)) -> P15-E | E14: =IF($C14=0,"",INDEX('Risk Register'!$D$5:$D$297,$C14)) -> Perth | F14: =IF($C14=0,"",INDEX('Risk Register'!$E$5:$E$297,$C14)) -> Fire Evacuation Risk Assessment (National Reg 97, 158) | G14: =IF($C14=0,"",INDEX('Risk Register'!$L$5:$L$297,$C14)) -> Individuals with mobility, sensory, or medical needs unable to evacuate safely | H14: =IF($C14=0,"",INDEX('Risk Register'!$M$5:$M$297,$C14)) -> 5 | I14: =IF($C14=0,"",INDEX('Risk Register'!$N$5:$N$297,$C14)) -> 3 | J14: =IF($C14=0,"",INDEX('Risk Register'!$O$5:$O$297,$C14)) -> 15 | K14: =IF($C14=0,"",INDEX('Risk Register'!$P$5:$P$297,$C14)) -> High | L14: =IF($C14=0,"",INDEX('Risk Register'!$Q$5:$Q$297,$C14)) -> Individual evacuation plans / assigned helpers; evacuation chairs/refuge areas; training for staff | M14: =IF($C14=0,"",INDEX('Risk Register'!$R$5:$R$297,$C14)) -> 5 | N14: =IF($C14=0,"",INDEX('Risk Register'!$S$5:$S$297,$C14)) -> 2 | O14: =IF($C14=0,"",INDEX('Risk Register'!$T$5:$T$297,$C14)) -> 10 | P14: =IF($C14=0,"",INDEX('Risk Register'!$U$5:$U$297,$C14)) -> High | Q14: =IF($C14=0,"",INDEX('Risk Register'!$V$5:$V$297,$C14)) -> 5
A16: =IF(O14="","",IF(COUNTIF('Risk Register'!$T$5:$T$297,O14)-COUNTIF(O5:O14,O14)>0,COUNTIF('Risk Register'!$T$5:$T$297,O14)-COUNTIF(O5:O14,O14)&" other hazard(s) also have a residual score of "&O14&" - see the Risk Register. Cut-off within that score is by inherent score then register order.","")) -> 6 other hazard(s) also have a residual score of 10 - see the Risk Register. Cut-off within that score is by inherent score then register order.
A18: Charts | S18: Risk matrix - where the Top 10 sit
S19: WITHOUT mitigation (inherent)
S20: Likelihood ↓ / Consequence → | T20: ='Scales & Matrix'!B5&" ("&1&")" -> Insignificant (1) | U20: ='Scales & Matrix'!B6&" ("&2&")" -> Minor (2) | V20: ='Scales & Matrix'!B7&" ("&3&")" -> Moderate (3) | W20: ='Scales & Matrix'!B8&" ("&4&")" -> Significant (4) | X20: ='Scales & Matrix'!B9&" ("&5&")" -> Major (5) | AA20: ='Scales & Matrix'!B13 -> Moderate | AB20: ='Scales & Matrix'!C13 -> Moderate | AC20: ='Scales & Matrix'!D13 -> High | AD20: ='Scales & Matrix'!E13 -> Critical | AE20: ='Scales & Matrix'!F13 -> Critical
S21: ='Scales & Matrix'!E9&" ("&5&")" -> Almost Certain (5) | T21: =TRIM(IF(AND($H$5=1,$I$5=5),$D$5&" ","")&IF(AND($H$6=1,$I$6=5),$D$6&" ","")&IF(AND($H$7=1,$I$7=5),$D$7&" ","")&IF(AND($H$8=1,$I$8=5),$D$8&" ","")&IF(AND($H$9=1,$I$9=5),$D$9&" ","")&IF(AND($H$10=1,$I$10=5),$D$10&" ","")&IF(AND($H$11=1,$I$11=5),$D$11&" ","")&IF(AND($H$12=1,$I$12=5),$D$12&" ","")&IF(AND($H$13=1,$I$13=5),$D$13&" ","")&IF(AND($H$14=1,$I$14=5),$D$14&" ","")) | U21: =TRIM(IF(AND($H$5=2,$I$5=5),$D$5&" ","")&IF(AND($H$6=2,$I$6=5),$D$6&" ","")&IF(AND($H$7=2,$I$7=5),$D$7&" ","")&IF(AND($H$8=2,$I$8=5),$D$8&" ","")&IF(AND($H$9=2,$I$9=5),$D$9&" ","")&IF(AND($H$10=2,$I$10=5),$D$10&" ","")&IF(AND($H$11=2,$I$11=5),$D$11&" ","")&IF(AND($H$12=2,$I$12=5),$D$12&" ","")&IF(AND($H$13=2,$I$13=5),$D$13&" ","")&IF(AND($H$14=2,$I$14=5),$D$14&" ","")) | V21: =TRIM(IF(AND($H$5=3,$I$5=5),$D$5&" ","")&IF(AND($H$6=3,$I$6=5),$D$6&" ","")&IF(AND($H$7=3,$I$7=5),$D$7&" ","")&IF(AND($H$8=3,$I$8=5),$D$8&" ","")&IF(AND($H$9=3,$I$9=5),$D$9&" ","")&IF(AND($H$10=3,$I$10=5),$D$10&" ","")&IF(AND($H$11=3,$I$11=5),$D$11&" ","")&IF(AND($H$12=3,$I$12=5),$D$12&" ","")&IF(AND($H$13=3,$I$13=5),$D$13&" ","")&IF(AND($H$14=3,$I$14=5),$D$14&" ","")) | W21: =TRIM(IF(AND($H$5=4,$I$5=5),$D$5&" ","")&IF(AND($H$6=4,$I$6=5),$D$6&" ","")&IF(AND($H$7=4,$I$7=5),$D$7&" ","")&IF(AND($H$8=4,$I$8=5),$D$8&" ","")&IF(AND($H$9=4,$I$9=5),$D$9&" ","")&IF(AND($H$10=4,$I$10=5),$D$10&" ","")&IF(AND($H$11=4,$I$11=5),$D$11&" ","")&IF(AND($H$12=4,$I$12=5),$D$12&" ","")&IF(AND($H$13=4,$I$13=5),$D$13&" ","")&IF(AND($H$14=4,$I$14=5),$D$14&" ","")) | X21: =TRIM(IF(AND($H$5=5,$I$5=5),$D$5&" ","")&IF(AND($H$6=5,$I$6=5),$D$6&" ","")&IF(AND($H$7=5,$I$7=5),$D$7&" ","")&IF(AND($H$8=5,$I$8=5),$D$8&" ","")&IF(AND($H$9=5,$I$9=5),$D$9&" ","")&IF(AND($H$10=5,$I$10=5),$D$10&" ","")&IF(AND($H$11=5,$I$11=5),$D$11&" ","")&IF(AND($H$12=5,$I$12=5),$D$12&" ","")&IF(AND($H$13=5,$I$13=5),$D$13&" ","")&IF(AND($H$14=5,$I$14=5),$D$14&" ","")) | AA21: ='Scales & Matrix'!B14 -> Moderate | AB21: ='Scales & Matrix'!C14 -> Moderate | AC21: ='Scales & Matrix'!D14 -> High | AD21: ='Scales & Matrix'!E14 -> High | AE21: ='Scales & Matrix'!F14 -> Critical
S22: ='Scales & Matrix'!E8&" ("&4&")" -> Likely (4) | T22: =TRIM(IF(AND($H$5=1,$I$5=4),$D$5&" ","")&IF(AND($H$6=1,$I$6=4),$D$6&" ","")&IF(AND($H$7=1,$I$7=4),$D$7&" ","")&IF(AND($H$8=1,$I$8=4),$D$8&" ","")&IF(AND($H$9=1,$I$9=4),$D$9&" ","")&IF(AND($H$10=1,$I$10=4),$D$10&" ","")&IF(AND($H$11=1,$I$11=4),$D$11&" ","")&IF(AND($H$12=1,$I$12=4),$D$12&" ","")&IF(AND($H$13=1,$I$13=4),$D$13&" ","")&IF(AND($H$14=1,$I$14=4),$D$14&" ","")) | U22: =TRIM(IF(AND($H$5=2,$I$5=4),$D$5&" ","")&IF(AND($H$6=2,$I$6=4),$D$6&" ","")&IF(AND($H$7=2,$I$7=4),$D$7&" ","")&IF(AND($H$8=2,$I$8=4),$D$8&" ","")&IF(AND($H$9=2,$I$9=4),$D$9&" ","")&IF(AND($H$10=2,$I$10=4),$D$10&" ","")&IF(AND($H$11=2,$I$11=4),$D$11&" ","")&IF(AND($H$12=2,$I$12=4),$D$12&" ","")&IF(AND($H$13=2,$I$13=4),$D$13&" ","")&IF(AND($H$14=2,$I$14=4),$D$14&" ","")) | V22: =TRIM(IF(AND($H$5=3,$I$5=4),$D$5&" ","")&IF(AND($H$6=3,$I$6=4),$D$6&" ","")&IF(AND($H$7=3,$I$7=4),$D$7&" ","")&IF(AND($H$8=3,$I$8=4),$D$8&" ","")&IF(AND($H$9=3,$I$9=4),$D$9&" ","")&IF(AND($H$10=3,$I$10=4),$D$10&" ","")&IF(AND($H$11=3,$I$11=4),$D$11&" ","")&IF(AND($H$12=3,$I$12=4),$D$12&" ","")&IF(AND($H$13=3,$I$13=4),$D$13&" ","")&IF(AND($H$14=3,$I$14=4),$D$14&" ","")) | W22: =TRIM(IF(AND($H$5=4,$I$5=4),$D$5&" ","")&IF(AND($H$6=4,$I$6=4),$D$6&" ","")&IF(AND($H$7=4,$I$7=4),$D$7&" ","")&IF(AND($H$8=4,$I$8=4),$D$8&" ","")&IF(AND($H$9=4,$I$9=4),$D$9&" ","")&IF(AND($H$10=4,$I$10=4),$D$10&" ","")&IF(AND($H$11=4,$I$11=4),$D$11&" ","")&IF(AND($H$12=4,$I$12=4),$D$12&" ","")&IF(AND($H$13=4,$I$13=4),$D$13&" ","")&IF(AND($H$14=4,$I$14=4),$D$14&" ","")) | X22: =TRIM(IF(AND($H$5=5,$I$5=4),$D$5&" ","")&IF(AND($H$6=5,$I$6=4),$D$6&" ","")&IF(AND($H$7=5,$I$7=4),$D$7&" ","")&IF(AND($H$8=5,$I$8=4),$D$8&" ","")&IF(AND($H$9=5,$I$9=4),$D$9&" ","")&IF(AND($H$10=5,$I$10=4),$D$10&" ","")&IF(AND($H$11=5,$I$11=4),$D$11&" ","")&IF(AND($H$12=5,$I$12=4),$D$12&" ","")&IF(AND($H$13=5,$I$13=4),$D$13&" ","")&IF(AND($H$14=5,$I$14=4),$D$14&" ","")) | AA22: ='Scales & Matrix'!B15 -> Low | AB22: ='Scales & Matrix'!C15 -> Moderate | AC22: ='Scales & Matrix'!D15 -> Moderate | AD22: ='Scales & Matrix'!E15 -> High | AE22: ='Scales & Matrix'!F15 -> High
S23: ='Scales & Matrix'!E7&" ("&3&")" -> Possible (3) | T23: =TRIM(IF(AND($H$5=1,$I$5=3),$D$5&" ","")&IF(AND($H$6=1,$I$6=3),$D$6&" ","")&IF(AND($H$7=1,$I$7=3),$D$7&" ","")&IF(AND($H$8=1,$I$8=3),$D$8&" ","")&IF(AND($H$9=1,$I$9=3),$D$9&" ","")&IF(AND($H$10=1,$I$10=3),$D$10&" ","")&IF(AND($H$11=1,$I$11=3),$D$11&" ","")&IF(AND($H$12=1,$I$12=3),$D$12&" ","")&IF(AND($H$13=1,$I$13=3),$D$13&" ","")&IF(AND($H$14=1,$I$14=3),$D$14&" ","")) | U23: =TRIM(IF(AND($H$5=2,$I$5=3),$D$5&" ","")&IF(AND($H$6=2,$I$6=3),$D$6&" ","")&IF(AND($H$7=2,$I$7=3),$D$7&" ","")&IF(AND($H$8=2,$I$8=3),$D$8&" ","")&IF(AND($H$9=2,$I$9=3),$D$9&" ","")&IF(AND($H$10=2,$I$10=3),$D$10&" ","")&IF(AND($H$11=2,$I$11=3),$D$11&" ","")&IF(AND($H$12=2,$I$12=3),$D$12&" ","")&IF(AND($H$13=2,$I$13=3),$D$13&" ","")&IF(AND($H$14=2,$I$14=3),$D$14&" ","")) | V23: =TRIM(IF(AND($H$5=3,$I$5=3),$D$5&" ","")&IF(AND($H$6=3,$I$6=3),$D$6&" ","")&IF(AND($H$7=3,$I$7=3),$D$7&" ","")&IF(AND($H$8=3,$I$8=3),$D$8&" ","")&IF(AND($H$9=3,$I$9=3),$D$9&" ","")&IF(AND($H$10=3,$I$10=3),$D$10&" ","")&IF(AND($H$11=3,$I$11=3),$D$11&" ","")&IF(AND($H$12=3,$I$12=3),$D$12&" ","")&IF(AND($H$13=3,$I$13=3),$D$13&" ","")&IF(AND($H$14=3,$I$14=3),$D$14&" ","")) -> F03-C P05-C | W23: =TRIM(IF(AND($H$5=4,$I$5=3),$D$5&" ","")&IF(AND($H$6=4,$I$6=3),$D$6&" ","")&IF(AND($H$7=4,$I$7=3),$D$7&" ","")&IF(AND($H$8=4,$I$8=3),$D$8&" ","")&IF(AND($H$9=4,$I$9=3),$D$9&" ","")&IF(AND($H$10=4,$I$10=3),$D$10&" ","")&IF(AND($H$11=4,$I$11=3),$D$11&" ","")&IF(AND($H$12=4,$I$12=3),$D$12&" ","")&IF(AND($H$13=4,$I$13=3),$D$13&" ","")&IF(AND($H$14=4,$I$14=3),$D$14&" ","")) -> F01-A P18-E | X23: =TRIM(IF(AND($H$5=5,$I$5=3),$D$5&" ","")&IF(AND($H$6=5,$I$6=3),$D$6&" ","")&IF(AND($H$7=5,$I$7=3),$D$7&" ","")&IF(AND($H$8=5,$I$8=3),$D$8&" ","")&IF(AND($H$9=5,$I$9=3),$D$9&" ","")&IF(AND($H$10=5,$I$10=3),$D$10&" ","")&IF(AND($H$11=5,$I$11=3),$D$11&" ","")&IF(AND($H$12=5,$I$12=3),$D$12&" ","")&IF(AND($H$13=5,$I$13=3),$D$13&" ","")&IF(AND($H$14=5,$I$14=3),$D$14&" ","")) -> P36-C F09-A F24-B F28-C F31-B P15-E | AA23: ='Scales & Matrix'!B16 -> Very Low | AB23: ='Scales & Matrix'!C16 -> Low | AC23: ='Scales & Matrix'!D16 -> Moderate | AD23: ='Scales & Matrix'!E16 -> Moderate | AE23: ='Scales & Matrix'!F16 -> High
S24: ='Scales & Matrix'!E6&" ("&2&")" -> Unlikely (2) | T24: =TRIM(IF(AND($H$5=1,$I$5=2),$D$5&" ","")&IF(AND($H$6=1,$I$6=2),$D$6&" ","")&IF(AND($H$7=1,$I$7=2),$D$7&" ","")&IF(AND($H$8=1,$I$8=2),$D$8&" ","")&IF(AND($H$9=1,$I$9=2),$D$9&" ","")&IF(AND($H$10=1,$I$10=2),$D$10&" ","")&IF(AND($H$11=1,$I$11=2),$D$11&" ","")&IF(AND($H$12=1,$I$12=2),$D$12&" ","")&IF(AND($H$13=1,$I$13=2),$D$13&" ","")&IF(AND($H$14=1,$I$14=2),$D$14&" ","")) | U24: =TRIM(IF(AND($H$5=2,$I$5=2),$D$5&" ","")&IF(AND($H$6=2,$I$6=2),$D$6&" ","")&IF(AND($H$7=2,$I$7=2),$D$7&" ","")&IF(AND($H$8=2,$I$8=2),$D$8&" ","")&IF(AND($H$9=2,$I$9=2),$D$9&" ","")&IF(AND($H$10=2,$I$10=2),$D$10&" ","")&IF(AND($H$11=2,$I$11=2),$D$11&" ","")&IF(AND($H$12=2,$I$12=2),$D$12&" ","")&IF(AND($H$13=2,$I$13=2),$D$13&" ","")&IF(AND($H$14=2,$I$14=2),$D$14&" ","")) | V24: =TRIM(IF(AND($H$5=3,$I$5=2),$D$5&" ","")&IF(AND($H$6=3,$I$6=2),$D$6&" ","")&IF(AND($H$7=3,$I$7=2),$D$7&" ","")&IF(AND($H$8=3,$I$8=2),$D$8&" ","")&IF(AND($H$9=3,$I$9=2),$D$9&" ","")&IF(AND($H$10=3,$I$10=2),$D$10&" ","")&IF(AND($H$11=3,$I$11=2),$D$11&" ","")&IF(AND($H$12=3,$I$12=2),$D$12&" ","")&IF(AND($H$13=3,$I$13=2),$D$13&" ","")&IF(AND($H$14=3,$I$14=2),$D$14&" ","")) | W24: =TRIM(IF(AND($H$5=4,$I$5=2),$D$5&" ","")&IF(AND($H$6=4,$I$6=2),$D$6&" ","")&IF(AND($H$7=4,$I$7=2),$D$7&" ","")&IF(AND($H$8=4,$I$8=2),$D$8&" ","")&IF(AND($H$9=4,$I$9=2),$D$9&" ","")&IF(AND($H$10=4,$I$10=2),$D$10&" ","")&IF(AND($H$11=4,$I$11=2),$D$11&" ","")&IF(AND($H$12=4,$I$12=2),$D$12&" ","")&IF(AND($H$13=4,$I$13=2),$D$13&" ","")&IF(AND($H$14=4,$I$14=2),$D$14&" ","")) | X24: =TRIM(IF(AND($H$5=5,$I$5=2),$D$5&" ","")&IF(AND($H$6=5,$I$6=2),$D$6&" ","")&IF(AND($H$7=5,$I$7=2),$D$7&" ","")&IF(AND($H$8=5,$I$8=2),$D$8&" ","")&IF(AND($H$9=5,$I$9=2),$D$9&" ","")&IF(AND($H$10=5,$I$10=2),$D$10&" ","")&IF(AND($H$11=5,$I$11=2),$D$11&" ","")&IF(AND($H$12=5,$I$12=2),$D$12&" ","")&IF(AND($H$13=5,$I$13=2),$D$13&" ","")&IF(AND($H$14=5,$I$14=2),$D$14&" ","")) | AA24: ='Scales & Matrix'!B17 -> Very Low | AB24: ='Scales & Matrix'!C17 -> Very Low | AC24: ='Scales & Matrix'!D17 -> Low | AD24: ='Scales & Matrix'!E17 -> Moderate | AE24: ='Scales & Matrix'!F17 -> Moderate
S25: ='Scales & Matrix'!E5&" ("&1&")" -> Rare (1) | T25: =TRIM(IF(AND($H$5=1,$I$5=1),$D$5&" ","")&IF(AND($H$6=1,$I$6=1),$D$6&" ","")&IF(AND($H$7=1,$I$7=1),$D$7&" ","")&IF(AND($H$8=1,$I$8=1),$D$8&" ","")&IF(AND($H$9=1,$I$9=1),$D$9&" ","")&IF(AND($H$10=1,$I$10=1),$D$10&" ","")&IF(AND($H$11=1,$I$11=1),$D$11&" ","")&IF(AND($H$12=1,$I$12=1),$D$12&" ","")&IF(AND($H$13=1,$I$13=1),$D$13&" ","")&IF(AND($H$14=1,$I$14=1),$D$14&" ","")) | U25: =TRIM(IF(AND($H$5=2,$I$5=1),$D$5&" ","")&IF(AND($H$6=2,$I$6=1),$D$6&" ","")&IF(AND($H$7=2,$I$7=1),$D$7&" ","")&IF(AND($H$8=2,$I$8=1),$D$8&" ","")&IF(AND($H$9=2,$I$9=1),$D$9&" ","")&IF(AND($H$10=2,$I$10=1),$D$10&" ","")&IF(AND($H$11=2,$I$11=1),$D$11&" ","")&IF(AND($H$12=2,$I$12=1),$D$12&" ","")&IF(AND($H$13=2,$I$13=1),$D$13&" ","")&IF(AND($H$14=2,$I$14=1),$D$14&" ","")) | V25: =TRIM(IF(AND($H$5=3,$I$5=1),$D$5&" ","")&IF(AND($H$6=3,$I$6=1),$D$6&" ","")&IF(AND($H$7=3,$I$7=1),$D$7&" ","")&IF(AND($H$8=3,$I$8=1),$D$8&" ","")&IF(AND($H$9=3,$I$9=1),$D$9&" ","")&IF(AND($H$10=3,$I$10=1),$D$10&" ","")&IF(AND($H$11=3,$I$11=1),$D$11&" ","")&IF(AND($H$12=3,$I$12=1),$D$12&" ","")&IF(AND($H$13=3,$I$13=1),$D$13&" ","")&IF(AND($H$14=3,$I$14=1),$D$14&" ","")) | W25: =TRIM(IF(AND($H$5=4,$I$5=1),$D$5&" ","")&IF(AND($H$6=4,$I$6=1),$D$6&" ","")&IF(AND($H$7=4,$I$7=1),$D$7&" ","")&IF(AND($H$8=4,$I$8=1),$D$8&" ","")&IF(AND($H$9=4,$I$9=1),$D$9&" ","")&IF(AND($H$10=4,$I$10=1),$D$10&" ","")&IF(AND($H$11=4,$I$11=1),$D$11&" ","")&IF(AND($H$12=4,$I$12=1),$D$12&" ","")&IF(AND($H$13=4,$I$13=1),$D$13&" ","")&IF(AND($H$14=4,$I$14=1),$D$14&" ","")) | X25: =TRIM(IF(AND($H$5=5,$I$5=1),$D$5&" ","")&IF(AND($H$6=5,$I$6=1),$D$6&" ","")&IF(AND($H$7=5,$I$7=1),$D$7&" ","")&IF(AND($H$8=5,$I$8=1),$D$8&" ","")&IF(AND($H$9=5,$I$9=1),$D$9&" ","")&IF(AND($H$10=5,$I$10=1),$D$10&" ","")&IF(AND($H$11=5,$I$11=1),$D$11&" ","")&IF(AND($H$12=5,$I$12=1),$D$12&" ","")&IF(AND($H$13=5,$I$13=1),$D$13&" ","")&IF(AND($H$14=5,$I$14=1),$D$14&" ",""))
S27: WITH mitigation (residual)
S28: Likelihood ↓ / Consequence → | T28: ='Scales & Matrix'!B5&" ("&1&")" -> Insignificant (1) | U28: ='Scales & Matrix'!B6&" ("&2&")" -> Minor (2) | V28: ='Scales & Matrix'!B7&" ("&3&")" -> Moderate (3) | W28: ='Scales & Matrix'!B8&" ("&4&")" -> Significant (4) | X28: ='Scales & Matrix'!B9&" ("&5&")" -> Major (5)
S29: ='Scales & Matrix'!E9&" ("&5&")" -> Almost Certain (5) | T29: =TRIM(IF(AND($M$5=1,$N$5=5),$D$5&" ","")&IF(AND($M$6=1,$N$6=5),$D$6&" ","")&IF(AND($M$7=1,$N$7=5),$D$7&" ","")&IF(AND($M$8=1,$N$8=5),$D$8&" ","")&IF(AND($M$9=1,$N$9=5),$D$9&" ","")&IF(AND($M$10=1,$N$10=5),$D$10&" ","")&IF(AND($M$11=1,$N$11=5),$D$11&" ","")&IF(AND($M$12=1,$N$12=5),$D$12&" ","")&IF(AND($M$13=1,$N$13=5),$D$13&" ","")&IF(AND($M$14=1,$N$14=5),$D$14&" ","")) | U29: =TRIM(IF(AND($M$5=2,$N$5=5),$D$5&" ","")&IF(AND($M$6=2,$N$6=5),$D$6&" ","")&IF(AND($M$7=2,$N$7=5),$D$7&" ","")&IF(AND($M$8=2,$N$8=5),$D$8&" ","")&IF(AND($M$9=2,$N$9=5),$D$9&" ","")&IF(AND($M$10=2,$N$10=5),$D$10&" ","")&IF(AND($M$11=2,$N$11=5),$D$11&" ","")&IF(AND($M$12=2,$N$12=5),$D$12&" ","")&IF(AND($M$13=2,$N$13=5),$D$13&" ","")&IF(AND($M$14=2,$N$14=5),$D$14&" ","")) | V29: =TRIM(IF(AND($M$5=3,$N$5=5),$D$5&" ","")&IF(AND($M$6=3,$N$6=5),$D$6&" ","")&IF(AND($M$7=3,$N$7=5),$D$7&" ","")&IF(AND($M$8=3,$N$8=5),$D$8&" ","")&IF(AND($M$9=3,$N$9=5),$D$9&" ","")&IF(AND($M$10=3,$N$10=5),$D$10&" ","")&IF(AND($M$11=3,$N$11=5),$D$11&" ","")&IF(AND($M$12=3,$N$12=5),$D$12&" ","")&IF(AND($M$13=3,$N$13=5),$D$13&" ","")&IF(AND($M$14=3,$N$14=5),$D$14&" ","")) | W29: =TRIM(IF(AND($M$5=4,$N$5=5),$D$5&" ","")&IF(AND($M$6=4,$N$6=5),$D$6&" ","")&IF(AND($M$7=4,$N$7=5),$D$7&" ","")&IF(AND($M$8=4,$N$8=5),$D$8&" ","")&IF(AND($M$9=4,$N$9=5),$D$9&" ","")&IF(AND($M$10=4,$N$10=5),$D$10&" ","")&IF(AND($M$11=4,$N$11=5),$D$11&" ","")&IF(AND($M$12=4,$N$12=5),$D$12&" ","")&IF(AND($M$13=4,$N$13=5),$D$13&" ","")&IF(AND($M$14=4,$N$14=5),$D$14&" ","")) | X29: =TRIM(IF(AND($M$5=5,$N$5=5),$D$5&" ","")&IF(AND($M$6=5,$N$6=5),$D$6&" ","")&IF(AND($M$7=5,$N$7=5),$D$7&" ","")&IF(AND($M$8=5,$N$8=5),$D$8&" ","")&IF(AND($M$9=5,$N$9=5),$D$9&" ","")&IF(AND($M$10=5,$N$10=5),$D$10&" ","")&IF(AND($M$11=5,$N$11=5),$D$11&" ","")&IF(AND($M$12=5,$N$12=5),$D$12&" ","")&IF(AND($M$13=5,$N$13=5),$D$13&" ","")&IF(AND($M$14=5,$N$14=5),$D$14&" ",""))
S30: ='Scales & Matrix'!E8&" ("&4&")" -> Likely (4) | T30: =TRIM(IF(AND($M$5=1,$N$5=4),$D$5&" ","")&IF(AND($M$6=1,$N$6=4),$D$6&" ","")&IF(AND($M$7=1,$N$7=4),$D$7&" ","")&IF(AND($M$8=1,$N$8=4),$D$8&" ","")&IF(AND($M$9=1,$N$9=4),$D$9&" ","")&IF(AND($M$10=1,$N$10=4),$D$10&" ","")&IF(AND($M$11=1,$N$11=4),$D$11&" ","")&IF(AND($M$12=1,$N$12=4),$D$12&" ","")&IF(AND($M$13=1,$N$13=4),$D$13&" ","")&IF(AND($M$14=1,$N$14=4),$D$14&" ","")) | U30: =TRIM(IF(AND($M$5=2,$N$5=4),$D$5&" ","")&IF(AND($M$6=2,$N$6=4),$D$6&" ","")&IF(AND($M$7=2,$N$7=4),$D$7&" ","")&IF(AND($M$8=2,$N$8=4),$D$8&" ","")&IF(AND($M$9=2,$N$9=4),$D$9&" ","")&IF(AND($M$10=2,$N$10=4),$D$10&" ","")&IF(AND($M$11=2,$N$11=4),$D$11&" ","")&IF(AND($M$12=2,$N$12=4),$D$12&" ","")&IF(AND($M$13=2,$N$13=4),$D$13&" ","")&IF(AND($M$14=2,$N$14=4),$D$14&" ","")) | V30: =TRIM(IF(AND($M$5=3,$N$5=4),$D$5&" ","")&IF(AND($M$6=3,$N$6=4),$D$6&" ","")&IF(AND($M$7=3,$N$7=4),$D$7&" ","")&IF(AND($M$8=3,$N$8=4),$D$8&" ","")&IF(AND($M$9=3,$N$9=4),$D$9&" ","")&IF(AND($M$10=3,$N$10=4),$D$10&" ","")&IF(AND($M$11=3,$N$11=4),$D$11&" ","")&IF(AND($M$12=3,$N$12=4),$D$12&" ","")&IF(AND($M$13=3,$N$13=4),$D$13&" ","")&IF(AND($M$14=3,$N$14=4),$D$14&" ","")) | W30: =TRIM(IF(AND($M$5=4,$N$5=4),$D$5&" ","")&IF(AND($M$6=4,$N$6=4),$D$6&" ","")&IF(AND($M$7=4,$N$7=4),$D$7&" ","")&IF(AND($M$8=4,$N$8=4),$D$8&" ","")&IF(AND($M$9=4,$N$9=4),$D$9&" ","")&IF(AND($M$10=4,$N$10=4),$D$10&" ","")&IF(AND($M$11=4,$N$11=4),$D$11&" ","")&IF(AND($M$12=4,$N$12=4),$D$12&" ","")&IF(AND($M$13=4,$N$13=4),$D$13&" ","")&IF(AND($M$14=4,$N$14=4),$D$14&" ","")) | X30: =TRIM(IF(AND($M$5=5,$N$5=4),$D$5&" ","")&IF(AND($M$6=5,$N$6=4),$D$6&" ","")&IF(AND($M$7=5,$N$7=4),$D$7&" ","")&IF(AND($M$8=5,$N$8=4),$D$8&" ","")&IF(AND($M$9=5,$N$9=4),$D$9&" ","")&IF(AND($M$10=5,$N$10=4),$D$10&" ","")&IF(AND($M$11=5,$N$11=4),$D$11&" ","")&IF(AND($M$12=5,$N$12=4),$D$12&" ","")&IF(AND($M$13=5,$N$13=4),$D$13&" ","")&IF(AND($M$14=5,$N$14=4),$D$14&" ",""))
S31: ='Scales & Matrix'!E7&" ("&3&")" -> Possible (3) | T31: =TRIM(IF(AND($M$5=1,$N$5=3),$D$5&" ","")&IF(AND($M$6=1,$N$6=3),$D$6&" ","")&IF(AND($M$7=1,$N$7=3),$D$7&" ","")&IF(AND($M$8=1,$N$8=3),$D$8&" ","")&IF(AND($M$9=1,$N$9=3),$D$9&" ","")&IF(AND($M$10=1,$N$10=3),$D$10&" ","")&IF(AND($M$11=1,$N$11=3),$D$11&" ","")&IF(AND($M$12=1,$N$12=3),$D$12&" ","")&IF(AND($M$13=1,$N$13=3),$D$13&" ","")&IF(AND($M$14=1,$N$14=3),$D$14&" ","")) | U31: =TRIM(IF(AND($M$5=2,$N$5=3),$D$5&" ","")&IF(AND($M$6=2,$N$6=3),$D$6&" ","")&IF(AND($M$7=2,$N$7=3),$D$7&" ","")&IF(AND($M$8=2,$N$8=3),$D$8&" ","")&IF(AND($M$9=2,$N$9=3),$D$9&" ","")&IF(AND($M$10=2,$N$10=3),$D$10&" ","")&IF(AND($M$11=2,$N$11=3),$D$11&" ","")&IF(AND($M$12=2,$N$12=3),$D$12&" ","")&IF(AND($M$13=2,$N$13=3),$D$13&" ","")&IF(AND($M$14=2,$N$14=3),$D$14&" ","")) | V31: =TRIM(IF(AND($M$5=3,$N$5=3),$D$5&" ","")&IF(AND($M$6=3,$N$6=3),$D$6&" ","")&IF(AND($M$7=3,$N$7=3),$D$7&" ","")&IF(AND($M$8=3,$N$8=3),$D$8&" ","")&IF(AND($M$9=3,$N$9=3),$D$9&" ","")&IF(AND($M$10=3,$N$10=3),$D$10&" ","")&IF(AND($M$11=3,$N$11=3),$D$11&" ","")&IF(AND($M$12=3,$N$12=3),$D$12&" ","")&IF(AND($M$13=3,$N$13=3),$D$13&" ","")&IF(AND($M$14=3,$N$14=3),$D$14&" ","")) | W31: =TRIM(IF(AND($M$5=4,$N$5=3),$D$5&" ","")&IF(AND($M$6=4,$N$6=3),$D$6&" ","")&IF(AND($M$7=4,$N$7=3),$D$7&" ","")&IF(AND($M$8=4,$N$8=3),$D$8&" ","")&IF(AND($M$9=4,$N$9=3),$D$9&" ","")&IF(AND($M$10=4,$N$10=3),$D$10&" ","")&IF(AND($M$11=4,$N$11=3),$D$11&" ","")&IF(AND($M$12=4,$N$12=3),$D$12&" ","")&IF(AND($M$13=4,$N$13=3),$D$13&" ","")&IF(AND($M$14=4,$N$14=3),$D$14&" ","")) -> P36-C F01-A P18-E F03-C P05-C | X31: =TRIM(IF(AND($M$5=5,$N$5=3),$D$5&" ","")&IF(AND($M$6=5,$N$6=3),$D$6&" ","")&IF(AND($M$7=5,$N$7=3),$D$7&" ","")&IF(AND($M$8=5,$N$8=3),$D$8&" ","")&IF(AND($M$9=5,$N$9=3),$D$9&" ","")&IF(AND($M$10=5,$N$10=3),$D$10&" ","")&IF(AND($M$11=5,$N$11=3),$D$11&" ","")&IF(AND($M$12=5,$N$12=3),$D$12&" ","")&IF(AND($M$13=5,$N$13=3),$D$13&" ","")&IF(AND($M$14=5,$N$14=3),$D$14&" ",""))
